BEGIN:VCALENDAR
VERSION:2.0
PRODID:-//Eventin//Event Calendar//EN
CALSCALE:GREGORIAN
METHOD:PUBLISH
BEGIN:VEVENT
UID:c8a8cf98847b9e2939c21de5a3a7a2fa@igc.frankfurt-school.de
SUMMARY:Indo-German Business Talk: Entrepreneurship in Germany and India
DESCRIPTION:The first instalment of our new online series Indo-German Busin
 ess Talk will address the topic of entrepreneurship in India and Germany. W
 hat are the differences between the two countries for launching a startup? 
 Where are you better off as an entrepreneur? And finally\, in which fields 
 can entrepreneurs from both countries collaborate?\n\n\n\nThese and more qu
 estions will be addressed by our moderator\, IGC Deputy Chairman Dr. Matthi
 as Catón\, and his guests:\n\n\n\n\nArie Ben Josef\, Venture Building Lead
  at Greentech Capital Partners and expert in startups in Israel and Germany
 \n\n\n\nRuzica Pekic\, CEO and Founder of Proptiq\, serial entrepreneur\, a
 nd Frankfurt School alumna\n\n\n\nProf. Ramakrishna Velamuri\, Dean of the 
 School of Management at Mahindra University in Hyderabad and expert on the 
 Indian startup ecosystem\n\n\n\n\nAfter a panel discussion with the experts
  via Zoom\, we will switch to the audio platform Clubhouse for an open dial
 ogue with everyone interested.
LOCATION:Online
DTSTAMP:20260420T095547Z
DTSTART:20220426T080000Z
DTEND:20260420T092000Z
END:VEVENT
END:VCALENDAR
